BEGIN:VCALENDAR
VERSION:2.0
PRODID:-//Squarespace Inc/Squarespace 6//v6//EN
BEGIN:VEVENT
UID:5fab867ed1ffba38d805cc39@squarespace.com
DTSTAMP:20210110T215721Z
DTSTART:20210129T200000Z
DTEND:20210130T043000Z
SUMMARY:AUCKLAND: THRIVING AFTER WEIGHT LOSS SURGERY WORKSHOP
END:VEVENT
END:VCALENDAR
