BEGIN:VCALENDAR
VERSION:2.0
PRODID:-//Squarespace Inc/Squarespace 6//v6//EN
BEGIN:VEVENT
UID:5fab851dafc6d87907316d9d@squarespace.com
DTSTAMP:20210110T215631Z
DTSTART:20210115T203000Z
DTEND:20210116T043000Z
SUMMARY:Napier One Day Workshop
END:VEVENT
END:VCALENDAR
